BEGIN:VCALENDAR
VERSION:2.0
PRODID:-//hacksw/handcal//NONSGML v1.0//EN
CALSCALE:GREGORIAN
BEGIN:VEVENT
LOCATION:Barcelona
DESCRIPTION:
DTSTART:20221201T160000Z
DTEND:20221201T160000Z
SUMMARY:Acte amb alumni i professors pels 10 anys del postgrau de Facility Management
URL;VALUE=URI:https://arquitectes.cat/ca/content/acte-amb-alumni-i-professors-pels-10-anys-del-postgrau-de-facility-management
DTSTAMP:20260422T223605Z
UID:69e9313559cdb
END:VEVENT
END:VCALENDAR