BEGIN:VCALENDAR
VERSION:2.0
PRODID:-//hacksw/handcal//NONSGML v1.0//EN
CALSCALE:GREGORIAN
BEGIN:VEVENT
LOCATION:Barcelona
DESCRIPTION:
DTSTART:20221228T153000Z
DTEND:20221230T153000Z
SUMMARY:KAPLA. CONSTRUCCIÓ A GRAN ESCALA
URL;VALUE=URI:https://arquitectes.cat/ca/content/kapla-construcci%C3%B3-gran-escala
DTSTAMP:20260419T222426Z
UID:69e539fa673bd
END:VEVENT
END:VCALENDAR