BEGIN:VCALENDAR
VERSION:2.0
PRODID:-//hacksw/handcal//NONSGML v1.0//EN
CALSCALE:GREGORIAN
BEGIN:VEVENT
LOCATION:Barcelona
DESCRIPTION:
DTSTART:20221130T170000Z
DTEND:20221130T170000Z
SUMMARY:Presentació del llibre: El Modernisme Perdut. Sarrià · Vallvidrera
URL;VALUE=URI:https://arquitectes.cat/ca/content/presentaci%C3%B3-del-llibre-el-modernisme-perdut-sarri%C3%A0-%C2%B7-vallvidrera
DTSTAMP:20260422T124348Z
UID:69e8a664c2b14
END:VEVENT
END:VCALENDAR