BEGIN:VCALENDAR
VERSION:2.0
PRODID:-//hacksw/handcal//NONSGML v1.0//EN
CALSCALE:GREGORIAN
BEGIN:VEVENT
LOCATION:Tarragona
DESCRIPTION:
DTSTART:20221201T173000Z
DTEND:20221201T190000Z
SUMMARY:LACOL Arquitectura Cooperativa 
URL;VALUE=URI:https://arquitectes.cat/ca/node/38057
DTSTAMP:20260426T042526Z
UID:69ed77966d275
END:VEVENT
END:VCALENDAR