BEGIN:VCALENDAR
VERSION:2.0
PRODID:-//hacksw/handcal//NONSGML v1.0//EN
CALSCALE:GREGORIAN
BEGIN:VEVENT
LOCATION:Girona
DESCRIPTION:
DTSTART:20221201T143000Z
DTEND:20221201T143000Z
SUMMARY:Cicle MARQ 2022/2023. 'Recreo en lo doméstico'\, a càrrec d'Ivet Gasol
URL;VALUE=URI:https://arquitectes.cat/ca/content/cicle-marq-20222023-recreo-en-lo-dom%C3%A9stico-c%C3%A0rrec-divet-gasol
DTSTAMP:20260423T021723Z
UID:69e965136a7a8
END:VEVENT
END:VCALENDAR