BEGIN:VCALENDAR
VERSION:2.0
PRODID:-//hacksw/handcal//NONSGML v1.0//EN
CALSCALE:GREGORIAN
BEGIN:VEVENT
LOCATION:Girona
DESCRIPTION:
DTSTART:20221201T143000Z
DTEND:20221201T143000Z
SUMMARY:Ciclo MARQ 2022/2023. 'Recreo en lo doméstico'\, a cargo de Ivet Gasol
URL;VALUE=URI:https://arquitectes.cat/ca/node/38055
DTSTAMP:20260422T124502Z
UID:69e8a6aeaa689
END:VEVENT
END:VCALENDAR