BEGIN:VCALENDAR
VERSION:2.0
PRODID:-//hacksw/handcal//NONSGML v1.0//EN
CALSCALE:GREGORIAN
BEGIN:VEVENT
LOCATION:Barcelona
DESCRIPTION:
DTSTART:20221215T173000Z
DTEND:20221215T190000Z
SUMMARY:IAAC Lecture Series - Andreina Seijas
URL;VALUE=URI:https://arquitectes.cat/ca/content/iaac-lecture-series-andreina-seijas
DTSTAMP:20260422T205451Z
UID:69e9197b8ae4d
END:VEVENT
END:VCALENDAR