BEGIN:VCALENDAR
VERSION:2.0
PRODID:-//hacksw/handcal//NONSGML v1.0//EN
CALSCALE:GREGORIAN
BEGIN:VEVENT
LOCATION:Barcelona
DESCRIPTION:
DTSTART:20221201T173000Z
DTEND:20221201T190000Z
SUMMARY:IAAC Lecture Series - Chris Reed
URL;VALUE=URI:https://arquitectes.cat/ca/content/iaac-lecture-series-chris-reed
DTSTAMP:20260426T000956Z
UID:69ed3bb447039
END:VEVENT
END:VCALENDAR