BEGIN:VCALENDAR
VERSION:2.0
PRODID:-//hacksw/handcal//NONSGML v1.0//EN
CALSCALE:GREGORIAN
BEGIN:VEVENT
LOCATION:
DESCRIPTION:
DTSTART:20221215T090000Z
DTEND:20221218T090000Z
SUMMARY:XLV CURSET DE L'AADIPA: LLUÍS DOMÈNECH I MONTANER. EUROPA I MÉS ENLLÀ
URL;VALUE=URI:https://arquitectes.cat/ca/content/xlv-curset-de-laadipa-llu%C3%ADs-dom%C3%A8nech-i-montaner-europa-i-m%C3%A9s-enll%C3%A0
DTSTAMP:20260426T003123Z
UID:69ed40bb278c2
END:VEVENT
END:VCALENDAR