BEGIN:VCALENDAR
VERSION:2.0
PRODID:-//hacksw/handcal//NONSGML v1.0//EN
CALSCALE:GREGORIAN
BEGIN:VEVENT
LOCATION:Barcelona
DESCRIPTION:
DTSTART:20221124T170000Z
DTEND:20221124T170000Z
SUMMARY:SCALAE EBOOK ‘DUCCIO MALABAMBA… POR SÍ MISMO’
URL;VALUE=URI:https://arquitectes.cat/ca/content/scalae-ebook-%E2%80%98duccio-malabamba%E2%80%A6-por-s%C3%AD-mismo%E2%80%99
DTSTAMP:20260423T071031Z
UID:69e9a9c71d071
END:VEVENT
END:VCALENDAR