BEGIN:VCALENDAR
VERSION:2.0
PRODID:-//hacksw/handcal//NONSGML v1.0//EN
CALSCALE:GREGORIAN
BEGIN:VEVENT
LOCATION:Girona
DESCRIPTION:
DTSTART:20221010T070000Z
DTEND:20221211T143000Z
SUMMARY:Exposición 'Domestic Workspaces'
URL;VALUE=URI:https://arquitectes.cat/ca/node/38004
DTSTAMP:20260419T145520Z
UID:69e4d0b8e96f2
END:VEVENT
END:VCALENDAR