BEGIN:VCALENDAR
VERSION:2.0
PRODID:-//hacksw/handcal//NONSGML v1.0//EN
CALSCALE:GREGORIAN
BEGIN:VEVENT
LOCATION:
DESCRIPTION:
DTSTART:20221116T160000Z
DTEND:20221116T190000Z
SUMMARY:Presentació de la 'Guia d’història urbana Escola Pública / Bcn\, 1900-1970\, el 16 de novembre\, a les 19 h\, C.C. Pati Llimona'
URL;VALUE=URI:https://arquitectes.cat/ca/content/presentaci%C3%B3-de-la-guia-d%E2%80%99hist%C3%B2ria-urbana-escola-p%C3%BAblica-bcn-1900-1970-el-16-de-novembre-les
DTSTAMP:20260419T225414Z
UID:69e540f641395
END:VEVENT
END:VCALENDAR