BEGIN:VCALENDAR
VERSION:2.0
PRODID:-//hacksw/handcal//NONSGML v1.0//EN
CALSCALE:GREGORIAN
BEGIN:VEVENT
LOCATION:Tarragona
DESCRIPTION:
DTSTART:20221115T060000Z
DTEND:20230113T130000Z
SUMMARY:Jujol in Montferri\, architecture and passion
URL;VALUE=URI:https://arquitectes.cat/ca/node/37979
DTSTAMP:20260425T200014Z
UID:69ed012e06c3b
END:VEVENT
END:VCALENDAR