BEGIN:VCALENDAR
VERSION:2.0
PRODID:-//hacksw/handcal//NONSGML v1.0//EN
CALSCALE:GREGORIAN
BEGIN:VEVENT
LOCATION:Barcelona
DESCRIPTION:
DTSTART:20221114T163000Z
DTEND:20221115T180000Z
SUMMARY:Award Ceremony of the European Prize for Urban Public Space 2022
URL;VALUE=URI:https://arquitectes.cat/ca/node/37978
DTSTAMP:20260426T034319Z
UID:69ed6db7c450c
END:VEVENT
END:VCALENDAR