BEGIN:VCALENDAR
VERSION:2.0
PRODID:-//hacksw/handcal//NONSGML v1.0//EN
CALSCALE:GREGORIAN
BEGIN:VEVENT
LOCATION:Barcelona
DESCRIPTION:
DTSTART:20221114T163000Z
DTEND:20221115T180000Z
SUMMARY:Lliurament del Premi Europeu de l’Espai Públic Urbà 2022
URL;VALUE=URI:https://arquitectes.cat/ca/content/lliurament-del-premi-europeu-de-l%E2%80%99espai-p%C3%BAblic-urb%C3%A0-2022
DTSTAMP:20260419T192408Z
UID:69e50fb81df70
END:VEVENT
END:VCALENDAR