BEGIN:VCALENDAR
VERSION:2.0
PRODID:-//hacksw/handcal//NONSGML v1.0//EN
CALSCALE:GREGORIAN
BEGIN:VEVENT
LOCATION:Barcelona
DESCRIPTION:
DTSTART:20221123T123000Z
DTEND:20221123T123000Z
SUMMARY:CulturTalks _ La Invisible Studio
URL;VALUE=URI:https://arquitectes.cat/ca/content/culturtalks-la-invisible-studio
DTSTAMP:20260422T120701Z
UID:69e89dc53e7c3
END:VEVENT
END:VCALENDAR