BEGIN:VCALENDAR
VERSION:2.0
PRODID:-//hacksw/handcal//NONSGML v1.0//EN
CALSCALE:GREGORIAN
BEGIN:VEVENT
LOCATION:Barcelona
DESCRIPTION:
DTSTART:20221104T150000Z
DTEND:20221104T150000Z
SUMMARY:CulturTalks _ Ted'A Arquitectura
URL;VALUE=URI:https://arquitectes.cat/ca/content/culturtalks-teda-arquitectura
DTSTAMP:20260422T225255Z
UID:69e9352724db7
END:VEVENT
END:VCALENDAR