BEGIN:VCALENDAR
VERSION:2.0
PRODID:-//hacksw/handcal//NONSGML v1.0//EN
CALSCALE:GREGORIAN
BEGIN:VEVENT
LOCATION:Barcelona
DESCRIPTION:
DTSTART:20221020T100000Z
DTEND:20221020T120000Z
SUMMARY:JORNADA OCT | Transición hacia una economía circular. Fondo Next Generation: principio DNSH y residuos de obra
URL;VALUE=URI:https://arquitectes.cat/ca/node/37922
DTSTAMP:20260419T184031Z
UID:69e5057f43821
END:VEVENT
END:VCALENDAR