BEGIN:VCALENDAR
VERSION:2.0
PRODID:-//hacksw/handcal//NONSGML v1.0//EN
CALSCALE:GREGORIAN
BEGIN:VEVENT
LOCATION:Barcelona
DESCRIPTION:
DTSTART:20221022T090000Z
DTEND:20221023T170000Z
SUMMARY:48h Open House: Visites guiades Oficines i arxiu de la Fundació Mies van der Rohe + Pavelló Mies van der Rohe
URL;VALUE=URI:https://arquitectes.cat/ca/content/48h-open-house-visites-guiades-oficines-i-arxiu-de-la-fundaci%C3%B3-mies-van-der-rohe-pavell%C3%B3
DTSTAMP:20260422T205615Z
UID:69e919cfe21ec
END:VEVENT
END:VCALENDAR