BEGIN:VCALENDAR
VERSION:2.0
PRODID:-//hacksw/handcal//NONSGML v1.0//EN
CALSCALE:GREGORIAN
BEGIN:VEVENT
LOCATION:Barcelona
DESCRIPTION:
DTSTART:20221123T103000Z
DTEND:20221123T103000Z
SUMMARY:Presentació del projecte d'RCR Arquitectes per a l'estació de Sants-Barcelona
URL;VALUE=URI:https://arquitectes.cat/ca/content/presentaci%C3%B3-del-projecte-drcr-arquitectes-lestaci%C3%B3-de-sants-barcelona
DTSTAMP:20260419T233222Z
UID:69e549e631c91
END:VEVENT
END:VCALENDAR