BEGIN:VCALENDAR
VERSION:2.0
PRODID:-//hacksw/handcal//NONSGML v1.0//EN
CALSCALE:GREGORIAN
BEGIN:VEVENT
LOCATION:Barcelona
DESCRIPTION:
DTSTART:20220928T170000Z
DTEND:20230110T170000Z
SUMMARY:Exposició: "Metròpolis d'avingudes"
URL;VALUE=URI:https://arquitectes.cat/ca/content/exposici%C3%B3-metr%C3%B2polis-davingudes
DTSTAMP:20260422T154209Z
UID:69e8d031ac7c4
END:VEVENT
END:VCALENDAR