BEGIN:VCALENDAR
VERSION:2.0
PRODID:-//hacksw/handcal//NONSGML v1.0//EN
CALSCALE:GREGORIAN
BEGIN:VEVENT
LOCATION:Barcelona
DESCRIPTION:
DTSTART:20221020T170000Z
DTEND:20221020T170000Z
SUMMARY:Talks That Matter: Espacios para cuidarte
URL;VALUE=URI:https://arquitectes.cat/ca/node/37884
DTSTAMP:20260419T174003Z
UID:69e4f7535ffef
END:VEVENT
END:VCALENDAR