BEGIN:VCALENDAR
VERSION:2.0
PRODID:-//hacksw/handcal//NONSGML v1.0//EN
CALSCALE:GREGORIAN
BEGIN:VEVENT
LOCATION:Barcelona
DESCRIPTION:
DTSTART:20221022T080000Z
DTEND:20221023T170000Z
SUMMARY:Festival d'Arquitectura 48h Open House BCN
URL;VALUE=URI:https://arquitectes.cat/ca/content/festival-darquitectura-48h-open-house-bcn-0
DTSTAMP:20260419T225915Z
UID:69e54223b1c11
END:VEVENT
END:VCALENDAR