BEGIN:VCALENDAR
VERSION:2.0
PRODID:-//hacksw/handcal//NONSGML v1.0//EN
CALSCALE:GREGORIAN
BEGIN:VEVENT
LOCATION:Barcelona
DESCRIPTION:
DTSTART:20221019T173000Z
DTEND:20221019T173000Z
SUMMARY:Arquitectura en Corto. Arquitectura de emergencia: APROP vs 13m2
URL;VALUE=URI:https://arquitectes.cat/ca/node/37846
DTSTAMP:20260419T155428Z
UID:69e4de9449d8f
END:VEVENT
END:VCALENDAR