BEGIN:VCALENDAR
VERSION:2.0
PRODID:-//hacksw/handcal//NONSGML v1.0//EN
CALSCALE:GREGORIAN
BEGIN:VEVENT
LOCATION:Barcelona
DESCRIPTION:
DTSTART:20221017T170000Z
DTEND:20221017T170000Z
SUMMARY:Presentació del llibre: "Projectes efímers per a Barcelona i la seva àrea"
URL;VALUE=URI:https://arquitectes.cat/ca/content/presentaci%C3%B3-del-llibre-projectes-ef%C3%ADmers-barcelona-i-la-seva-%C3%A0rea
DTSTAMP:20260419T204754Z
UID:69e5235a5fa62
END:VEVENT
END:VCALENDAR