BEGIN:VCALENDAR
VERSION:2.0
PRODID:-//hacksw/handcal//NONSGML v1.0//EN
CALSCALE:GREGORIAN
BEGIN:VEVENT
LOCATION:Barcelona
DESCRIPTION:
DTSTART:20221201T080000Z
DTEND:20230326T180000Z
SUMMARY:Exposició: "Mòmies d'Egipte. Redescobrint sis vides"
URL;VALUE=URI:https://arquitectes.cat/ca/content/exposici%C3%B3-m%C3%B2mies-degipte-redescobrint-sis-vides
DTSTAMP:20260420T055533Z
UID:69e5a3b5755b6
END:VEVENT
END:VCALENDAR