BEGIN:VCALENDAR
VERSION:2.0
PRODID:-//hacksw/handcal//NONSGML v1.0//EN
CALSCALE:GREGORIAN
BEGIN:VEVENT
LOCATION:Tarragona
DESCRIPTION:
DTSTART:20221014T080000Z
DTEND:20221113T170000Z
SUMMARY:XII Bienal Alejandro de la Sota\, en Valls
URL;VALUE=URI:https://arquitectes.cat/ca/node/37796
DTSTAMP:20260419T181237Z
UID:69e4fef5d06fb
END:VEVENT
END:VCALENDAR