BEGIN:VCALENDAR
VERSION:2.0
PRODID:-//hacksw/handcal//NONSGML v1.0//EN
CALSCALE:GREGORIAN
BEGIN:VEVENT
LOCATION:Tarragona
DESCRIPTION:
DTSTART:20221014T080000Z
DTEND:20221113T170000Z
SUMMARY:XII Bienal Alejandro de la Sota\, in Valls
URL;VALUE=URI:https://arquitectes.cat/ca/node/37795
DTSTAMP:20260420T014234Z
UID:69e5686aa6650
END:VEVENT
END:VCALENDAR