BEGIN:VCALENDAR
VERSION:2.0
PRODID:-//hacksw/handcal//NONSGML v1.0//EN
CALSCALE:GREGORIAN
BEGIN:VEVENT
LOCATION:Barcelona
DESCRIPTION:
DTSTART:20221006T170000Z
DTEND:20221006T170000Z
SUMMARY:Entrega de guardons de la 1a Mostra d’Arquitectura del Garraf i l'Alt Penedès 
URL;VALUE=URI:https://arquitectes.cat/ca/content/entrega-de-guardons-de-la-1a-mostra-d%E2%80%99arquitectura-del-garraf-i-lalt-pened%C3%A8s
DTSTAMP:20260419T164650Z
UID:69e4eada68745
END:VEVENT
END:VCALENDAR