BEGIN:VCALENDAR
VERSION:2.0
PRODID:-//hacksw/handcal//NONSGML v1.0//EN
CALSCALE:GREGORIAN
BEGIN:VEVENT
LOCATION:Olot
DESCRIPTION:
DTSTART:20221006T070000Z
DTEND:20230108T120000Z
SUMMARY:Exposició 'Obres premiades i seleccionades dels Premis d'Arquitectura de les Comarques de Girona 2022'
URL;VALUE=URI:https://arquitectes.cat/ca/content/exposici%C3%B3-obres-premiades-i-seleccionades-dels-premis-darquitectura-de-les-comarques-de
DTSTAMP:20260426T052440Z
UID:69ed857880d19
END:VEVENT
END:VCALENDAR