BEGIN:VCALENDAR
VERSION:2.0
PRODID:-//hacksw/handcal//NONSGML v1.0//EN
CALSCALE:GREGORIAN
BEGIN:VEVENT
LOCATION:
DESCRIPTION:
DTSTART:20221001T080000Z
DTEND:20221001T080000Z
SUMMARY:VI Arquitectour Girona. Revisitant l'Arquitectura Moderna de Cadaqués
URL;VALUE=URI:https://arquitectes.cat/ca/content/vi-arquitectour-girona-revisitant-larquitectura-moderna-de-cadaqu%C3%A9s
DTSTAMP:20260425T235635Z
UID:69ed38931c4ef
END:VEVENT
END:VCALENDAR