BEGIN:VCALENDAR
VERSION:2.0
PRODID:-//hacksw/handcal//NONSGML v1.0//EN
CALSCALE:GREGORIAN
BEGIN:VEVENT
LOCATION:Barcelona
DESCRIPTION:
DTSTART:20221006T103000Z
DTEND:20221006T103000Z
SUMMARY:Regenerar Barcelona. 4a sessió: "Regeneració de barris"
URL;VALUE=URI:https://arquitectes.cat/ca/content/regenerar-barcelona-4a-sessi%C3%B3-regeneraci%C3%B3-de-barris
DTSTAMP:20260419T184334Z
UID:69e506367d1d2
END:VEVENT
END:VCALENDAR