BEGIN:VCALENDAR
VERSION:2.0
PRODID:-//hacksw/handcal//NONSGML v1.0//EN
CALSCALE:GREGORIAN
BEGIN:VEVENT
LOCATION:En línia
DESCRIPTION:
DTSTART:20221003T150000Z
DTEND:20221003T150000Z
SUMMARY:Sessió Sert: Els avantatges de l'ús de la metodologia BIM en la redacció de projectes
URL;VALUE=URI:https://arquitectes.cat/ca/content/sessi%C3%B3-sert-els-avantatges-de-l%C3%BAs-de-la-metodologia-bim-en-la-redacci%C3%B3-de-projectes
DTSTAMP:20260420T005049Z
UID:69e55c4992c71
END:VEVENT
END:VCALENDAR