BEGIN:VCALENDAR
VERSION:2.0
PRODID:-//hacksw/handcal//NONSGML v1.0//EN
CALSCALE:GREGORIAN
BEGIN:VEVENT
LOCATION:Barcelona
DESCRIPTION:
DTSTART:20220929T170000Z
DTEND:20220929T170000Z
SUMMARY:Construir bellesa. Una conversa de moda i arquitectura entre Manuel Blanco i Isabel Margalejo
URL;VALUE=URI:https://arquitectes.cat/ca/content/construir-bellesa-una-conversa-de-moda-i-arquitectura-entre-manuel-blanco-i-isabel-margalejo
DTSTAMP:20260419T233909Z
UID:69e54b7d5fec4
END:VEVENT
END:VCALENDAR