BEGIN:VCALENDAR
VERSION:2.0
PRODID:-//hacksw/handcal//NONSGML v1.0//EN
CALSCALE:GREGORIAN
BEGIN:VEVENT
LOCATION:Barcelona
DESCRIPTION:
DTSTART:20220908T133000Z
DTEND:20220928T170000Z
SUMMARY:Exposició de la 3a edició de la Mostra d'Arquitectura de Barcelona
URL;VALUE=URI:https://arquitectes.cat/ca/content/exposici%C3%B3-de-la-3a-edici%C3%B3-de-la-mostra-darquitectura-de-barcelona-0
DTSTAMP:20260422T120743Z
UID:69e89defa940c
END:VEVENT
END:VCALENDAR