BEGIN:VCALENDAR
VERSION:2.0
PRODID:-//hacksw/handcal//NONSGML v1.0//EN
CALSCALE:GREGORIAN
BEGIN:VEVENT
LOCATION:Barcelona
DESCRIPTION:
DTSTART:20220920T160000Z
DTEND:20220920T160000Z
SUMMARY:Jornada de networking entre arquitectes i constructors
URL;VALUE=URI:https://arquitectes.cat/ca/content/jornada-de-networking-entre-arquitectes-i-constructors-0
DTSTAMP:20260425T183254Z
UID:69ececb63530c
END:VEVENT
END:VCALENDAR