BEGIN:VCALENDAR
VERSION:2.0
PRODID:-//hacksw/handcal//NONSGML v1.0//EN
CALSCALE:GREGORIAN
BEGIN:VEVENT
LOCATION:Barcelona
DESCRIPTION:
DTSTART:20220919T170000Z
DTEND:20220919T170000Z
SUMMARY:Conferència: “Proyectos de arquitectura sacra del despacho de arquitectura Vicens-Ramos”
URL;VALUE=URI:https://arquitectes.cat/ca/content/confer%C3%A8ncia-%E2%80%9Cproyectos-de-arquitectura-sacra-del-despacho-de-arquitectura-vicens-ramos%E2%80%9D
DTSTAMP:20260419T150140Z
UID:69e4d234067ca
END:VEVENT
END:VCALENDAR