BEGIN:VCALENDAR
VERSION:2.0
PRODID:-//hacksw/handcal//NONSGML v1.0//EN
CALSCALE:GREGORIAN
BEGIN:VEVENT
LOCATION:Barcelona
DESCRIPTION:
DTSTART:20220909T090000Z
DTEND:20220910T150000Z
SUMMARY:Exposició dels treballs finals de grau d'Arquitectura d'UIC Barcelona: una  nova centralitat verda entre Esplugues i L'Hospitalet
URL;VALUE=URI:https://arquitectes.cat/ca/content/exposici%C3%B3-dels-treballs-finals-de-grau-darquitectura-duic-barcelona-una-nova-centralitat-1
DTSTAMP:20260423T051245Z
UID:69e98e2d4d798
END:VEVENT
END:VCALENDAR