BEGIN:VCALENDAR
VERSION:2.0
PRODID:-//hacksw/handcal//NONSGML v1.0//EN
CALSCALE:GREGORIAN
BEGIN:VEVENT
LOCATION:Barcelona
DESCRIPTION:
DTSTART:20220927T170000Z
DTEND:20220927T170000Z
SUMMARY:Presentación del libro ‘Notes sobre disseny\, art i arquitectura’ de Pep Alemany
URL;VALUE=URI:https://arquitectes.cat/ca/node/37714
DTSTAMP:20260419T205118Z
UID:69e52426238c3
END:VEVENT
END:VCALENDAR