BEGIN:VCALENDAR
VERSION:2.0
PRODID:-//hacksw/handcal//NONSGML v1.0//EN
CALSCALE:GREGORIAN
BEGIN:VEVENT
LOCATION:Barcelona
DESCRIPTION:
DTSTART:20220927T160000Z
DTEND:20220927T160000Z
SUMMARY:Mies Goes Future – Com es pot projectar l’arquitectura del passat cap al futur: El paper del museu com a institució educativa al segle XXI
URL;VALUE=URI:https://arquitectes.cat/ca/content/mies-goes-future-%E2%80%93-com-es-pot-projectar-l%E2%80%99arquitectura-del-passat-cap-al-futur-el-paper-del
DTSTAMP:20260419T145859Z
UID:69e4d1936de4e
END:VEVENT
END:VCALENDAR