BEGIN:VCALENDAR
VERSION:2.0
PRODID:-//hacksw/handcal//NONSGML v1.0//EN
CALSCALE:GREGORIAN
BEGIN:VEVENT
LOCATION:Olot
DESCRIPTION:
DTSTART:20221020T170000Z
DTEND:20221020T170000Z
SUMMARY:Ciclo Movilidad. Calles para convivir
URL;VALUE=URI:https://arquitectes.cat/ca/node/37639
DTSTAMP:20260420T002308Z
UID:69e555cc20b33
END:VEVENT
END:VCALENDAR