BEGIN:VCALENDAR
VERSION:2.0
PRODID:-//hacksw/handcal//NONSGML v1.0//EN
CALSCALE:GREGORIAN
BEGIN:VEVENT
LOCATION:Barcelona
DESCRIPTION:
DTSTART:20220710T170000Z
DTEND:20220710T170000Z
SUMMARY:Poetry Slam Barcelona. Creación a partir de la palabra y la escena
URL;VALUE=URI:https://arquitectes.cat/ca/node/37596
DTSTAMP:20260419T143910Z
UID:69e4ccee331a1
END:VEVENT
END:VCALENDAR