BEGIN:VCALENDAR
VERSION:2.0
PRODID:-//hacksw/handcal//NONSGML v1.0//EN
CALSCALE:GREGORIAN
BEGIN:VEVENT
LOCATION:Granollers
DESCRIPTION:
DTSTART:20220701T081500Z
DTEND:20220701T081500Z
SUMMARY:Visita Espai Hospitalari Polivalent de Granollers
URL;VALUE=URI:https://arquitectes.cat/ca/content/visita-espai-hospitalari-polivalent-de-granollers
DTSTAMP:20260426T014140Z
UID:69ed51344cf7e
END:VEVENT
END:VCALENDAR