BEGIN:VCALENDAR
VERSION:2.0
PRODID:-//hacksw/handcal//NONSGML v1.0//EN
CALSCALE:GREGORIAN
BEGIN:VEVENT
LOCATION:Barcelona
DESCRIPTION:
DTSTART:20220721T163000Z
DTEND:20220721T163000Z
SUMMARY:Presentació del llibre "Manual pràctic per a la valoració de béns i drets"
URL;VALUE=URI:https://arquitectes.cat/ca/content/presentaci%C3%B3-del-llibre-manual-pr%C3%A0ctic-la-valoraci%C3%B3-de-b%C3%A9ns-i-drets-0
DTSTAMP:20260419T174618Z
UID:69e4f8ca7b25e
END:VEVENT
END:VCALENDAR