BEGIN:VCALENDAR
VERSION:2.0
PRODID:-//hacksw/handcal//NONSGML v1.0//EN
CALSCALE:GREGORIAN
BEGIN:VEVENT
LOCATION:Girona
DESCRIPTION:
DTSTART:20220714T173000Z
DTEND:20220714T173000Z
SUMMARY:Conferencia 'Michèle&Miquel y Bordas+Peiro. Obra propia'
URL;VALUE=URI:https://arquitectes.cat/ca/node/37564
DTSTAMP:20260419T180313Z
UID:69e4fcc123416
END:VEVENT
END:VCALENDAR