BEGIN:VCALENDAR
VERSION:2.0
PRODID:-//hacksw/handcal//NONSGML v1.0//EN
CALSCALE:GREGORIAN
BEGIN:VEVENT
LOCATION:Barcelona
DESCRIPTION:
DTSTART:20220705T080000Z
DTEND:20220707T150000Z
SUMMARY:SINTÍTULO_FINALFINAL
URL;VALUE=URI:https://arquitectes.cat/ca/node/37551
DTSTAMP:20260419T215343Z
UID:69e532c72f125
END:VEVENT
END:VCALENDAR