BEGIN:VCALENDAR
VERSION:2.0
PRODID:-//hacksw/handcal//NONSGML v1.0//EN
CALSCALE:GREGORIAN
BEGIN:VEVENT
LOCATION:Tortosa
DESCRIPTION:
DTSTART:20220618T070000Z
DTEND:20220618T070000Z
SUMMARY:Arquitectura hospitalària i salut. Un binomi transformador
URL;VALUE=URI:https://arquitectes.cat/ca/content/arquitectura-hospital%C3%A0ria-i-salut-un-binomi-transformador
DTSTAMP:20260419T162326Z
UID:69e4e55ede5e6
END:VEVENT
END:VCALENDAR