BEGIN:VCALENDAR
VERSION:2.0
PRODID:-//hacksw/handcal//NONSGML v1.0//EN
CALSCALE:GREGORIAN
BEGIN:VEVENT
LOCATION:
DESCRIPTION:
DTSTART:20220616T170000Z
DTEND:20220616T170000Z
SUMMARY:CHARLA + COCTEL. RoofTop Series by BMI 
URL;VALUE=URI:https://arquitectes.cat/ca/content/charla-coctel-rooftop-series-bmi
DTSTAMP:20260420T003308Z
UID:69e55824636f0
END:VEVENT
END:VCALENDAR