BEGIN:VCALENDAR
VERSION:2.0
PRODID:-//hacksw/handcal//NONSGML v1.0//EN
CALSCALE:GREGORIAN
BEGIN:VEVENT
LOCATION:Terrassa
DESCRIPTION:
DTSTART:20220601T110000Z
DTEND:20220725T180000Z
SUMMARY:Exposició: UT SUPRA
URL;VALUE=URI:https://arquitectes.cat/ca/content/exposici%C3%B3-ut-supra
DTSTAMP:20260420T022641Z
UID:69e572c18b78a
END:VEVENT
END:VCALENDAR