BEGIN:VCALENDAR
VERSION:2.0
PRODID:-//hacksw/handcal//NONSGML v1.0//EN
CALSCALE:GREGORIAN
BEGIN:VEVENT
LOCATION:Barcelona
DESCRIPTION:
DTSTART:20221006T170000Z
DTEND:20221006T170000Z
SUMMARY:Tertúlia: "Noves aportacions arquitectòniques a l'habitatge contemporani\, l'obra pública a debat"
URL;VALUE=URI:https://arquitectes.cat/ca/content/tert%C3%BAlia-noves-aportacions-arquitect%C3%B2niques-lhabitatge-contemporani-lobra-p%C3%BAblica-debat
DTSTAMP:20260420T033525Z
UID:69e582dd1450e
END:VEVENT
END:VCALENDAR